BEGIN:VCALENDAR
VERSION:2.0
PRODID:-//Café am Dales - ECPv6.15.20//NONSGML v1.0//EN
CALSCALE:GREGORIAN
METHOD:PUBLISH
X-WR-CALNAME:Café am Dales
X-ORIGINAL-URL:https://cafeamdales.de
X-WR-CALDESC:Veranstaltungen für Café am Dales
REFRESH-INTERVAL;VALUE=DURATION:PT1H
X-Robots-Tag:noindex
X-PUBLISHED-TTL:PT1H
BEGIN:VTIMEZONE
TZID:Europe/Berlin
BEGIN:DAYLIGHT
TZOFFSETFROM:+0100
TZOFFSETTO:+0200
TZNAME:CEST
DTSTART:20250330T010000
END:DAYLIGHT
BEGIN:STANDARD
TZOFFSETFROM:+0200
TZOFFSETTO:+0100
TZNAME:CET
DTSTART:20251026T010000
END:STANDARD
BEGIN:DAYLIGHT
TZOFFSETFROM:+0100
TZOFFSETTO:+0200
TZNAME:CEST
DTSTART:20260329T010000
END:DAYLIGHT
BEGIN:STANDARD
TZOFFSETFROM:+0200
TZOFFSETTO:+0100
TZNAME:CET
DTSTART:20261025T010000
END:STANDARD
BEGIN:DAYLIGHT
TZOFFSETFROM:+0100
TZOFFSETTO:+0200
TZNAME:CEST
DTSTART:20270328T010000
END:DAYLIGHT
BEGIN:STANDARD
TZOFFSETFROM:+0200
TZOFFSETTO:+0100
TZNAME:CET
DTSTART:20271031T010000
END:STANDARD
END:VTIMEZONE
BEGIN:VEVENT
DTSTART;TZID=Europe/Berlin:20260320T190000
DTEND;TZID=Europe/Berlin:20260320T190000
DTSTAMP:20260421T153812
CREATED:20260218T170705Z
LAST-MODIFIED:20260218T170713Z
UID:4048-1774033200-1774033200@cafeamdales.de
SUMMARY:Reise in die Vergangenheit: „Vergessene Dörfer“ – Ein Vortrag im Café am Dales
DESCRIPTION:Liebe Gäste\, \n\n\n\nwir freuen uns sehr\, den „Kulturstammtisch Thalau“ für einen ganz besonderen geschichtlichen Abend bei uns im Café am Dales begrüßen zu dürfen. Unter dem Titel „Vergessene Dörfer“ laden wir Sie herzlich zu einem spannenden Vortrag ein. \n\n\n\nWorum geht es? Tauchen Sie ein in die Geschichte der Region. Die Referenten Walter Kömpel und Marion Stephan nehmen Sie mit auf eine Reise durch die Historie des Truppenübungsplatzes Wildflecken. Erfahren Sie mehr über die einstigen Dörfer\, die weichen mussten\, über ehemalige Burgen und das Industriegebiet entlang der Kleinen Sinn. Ein Abend voller Erinnerungen und interessanter Fakten\, der die Heimatgeschichte lebendig werden lässt. \n\n\n\nUnser kulinarisches Begleitprogramm Damit Sie den Tag und den Abend in gemütlicher Atmosphäre genießen können\, sind wir schon ab dem Mittag für Sie da: \n\n\n\n\nAb 13.30 Uhr: Genießen Sie unseren frischen Kaffee und hausgemachten Kuchen.\n\n\n\nAb 17.30 Uhr: Für den herzhaften Hunger wird etwas zum „Neiseln“ angeboten – die perfekte Stärkung vor dem Vortrag.\n\n\n\n\nDie Daten im Überblick: \n\n\n\n\nDatum: 20. März 2026\n\n\n\nBeginn des Vortrags: 19.00 Uhr\n\n\n\nOrt: Café Am Dales\, Stellberger Str. 1
URL:https://cafeamdales.de/event/reise-in-die-vergangenheit-vergessene-doerfer-ein-vortrag-im-cafe-am-dales/
LOCATION:Café am Dales\, Stellberger Str. 1\, Ebersburg\, Hessen\, 36157\, Deutschland
ATTACH;FMTTYPE=image/png:https://cafeamdales.de/wp-content/uploads/2026/02/image1.png
END:VEVENT
END:VCALENDAR